BEGIN:VCALENDAR
VERSION:2.0
PRODID:-//eventon.com NONSGML v1.0//EN
CALSCALE:GREGORIAN
METHOD:PUBLISH
BEGIN:VEVENT
UID:69e7498fc4a40
DTSTAMP:20260421T095527Z
DTSTART:20250907T140000Z
DTEND:20250907T150000Z
LOCATION:
SUMMARY:Inscription cycle 2025-26 d'initiation aux chants amérindiens
DESCRIPTION:Au vu des deux superbes années passées avec les premiers grou
 pes sur 2023-24 et 2024-25\,  nous reproposons avec grand enthousiasme en c
 ette rentrée de septembre 2025: la création d'un groupe de chanteurs des 
 chants sacrés amérindiens. C'est  à dire un groupe\,  qui se réunira c
 haque mois\,  préférentiellement les 1ers dimanches[..]\nhttps://isha-etr
 evivant.fr/events/inscription-cycle-2025-26-dinitiation-aux-chants-amerindi
 ens/
URL:https://isha-etrevivant.fr/events/inscription-cycle-2025-26-dinitiation-aux-chants-amerindiens/
END:VEVENT
END:VCALENDAR